BEGIN:VCALENDAR
VERSION:2.0
PRODID:-//Annapolis Homebrew Club - ECPv6.15.20//NONSGML v1.0//EN
CALSCALE:GREGORIAN
METHOD:PUBLISH
X-WR-CALNAME:Annapolis Homebrew Club
X-ORIGINAL-URL:https://annapolishomebrewclub.com
X-WR-CALDESC:Events for Annapolis Homebrew Club
REFRESH-INTERVAL;VALUE=DURATION:PT1H
X-Robots-Tag:noindex
X-PUBLISHED-TTL:PT1H
BEGIN:VTIMEZONE
TZID:America/New_York
BEGIN:DAYLIGHT
TZOFFSETFROM:-0500
TZOFFSETTO:-0400
TZNAME:EDT
DTSTART:20250309T070000
END:DAYLIGHT
BEGIN:STANDARD
TZOFFSETFROM:-0400
TZOFFSETTO:-0500
TZNAME:EST
DTSTART:20251102T060000
END:STANDARD
BEGIN:DAYLIGHT
TZOFFSETFROM:-0500
TZOFFSETTO:-0400
TZNAME:EDT
DTSTART:20260308T070000
END:DAYLIGHT
BEGIN:STANDARD
TZOFFSETFROM:-0400
TZOFFSETTO:-0500
TZNAME:EST
DTSTART:20261101T060000
END:STANDARD
BEGIN:DAYLIGHT
TZOFFSETFROM:-0500
TZOFFSETTO:-0400
TZNAME:EDT
DTSTART:20270314T070000
END:DAYLIGHT
BEGIN:STANDARD
TZOFFSETFROM:-0400
TZOFFSETTO:-0500
TZNAME:EST
DTSTART:20271107T060000
END:STANDARD
END:VTIMEZONE
BEGIN:VEVENT
DTSTART;TZID=America/New_York:20260917T183000
DTEND;TZID=America/New_York:20260917T203000
DTSTAMP:20260421T192029
CREATED:20230119T013135Z
LAST-MODIFIED:20260112T175600Z
UID:6511-1789669800-1789677000@annapolishomebrewclub.com
SUMMARY:September Club Meeting & Competition
DESCRIPTION:September’s club meeting includes a competition featuring Lagers. \nCompetition Details – AHBC Club Competitions
URL:https://annapolishomebrewclub.com/event/september-club-meeting/
LOCATION:Pherm Brewing Company\, 1041 MD-3\, Gambrills\, MD\, 21054\, United States
CATEGORIES:AHBC Competitions,Monthly Meetings
ORGANIZER;CN="Annapolis Homebrew Club":MAILTO:hello@annapolishomebrewclub.com
END:VEVENT
END:VCALENDAR