BEGIN:VCALENDAR
VERSION:2.0
PRODID:-//Annapolis Homebrew Club - ECPv6.15.20//NONSGML v1.0//EN
CALSCALE:GREGORIAN
METHOD:PUBLISH
X-WR-CALNAME:Annapolis Homebrew Club
X-ORIGINAL-URL:https://annapolishomebrewclub.com
X-WR-CALDESC:Events for Annapolis Homebrew Club
REFRESH-INTERVAL;VALUE=DURATION:PT1H
X-Robots-Tag:noindex
X-PUBLISHED-TTL:PT1H
BEGIN:VTIMEZONE
TZID:America/New_York
BEGIN:DAYLIGHT
TZOFFSETFROM:-0500
TZOFFSETTO:-0400
TZNAME:EDT
DTSTART:20160313T070000
END:DAYLIGHT
BEGIN:STANDARD
TZOFFSETFROM:-0400
TZOFFSETTO:-0500
TZNAME:EST
DTSTART:20161106T060000
END:STANDARD
BEGIN:DAYLIGHT
TZOFFSETFROM:-0500
TZOFFSETTO:-0400
TZNAME:EDT
DTSTART:20170312T070000
END:DAYLIGHT
BEGIN:STANDARD
TZOFFSETFROM:-0400
TZOFFSETTO:-0500
TZNAME:EST
DTSTART:20171105T060000
END:STANDARD
BEGIN:DAYLIGHT
TZOFFSETFROM:-0500
TZOFFSETTO:-0400
TZNAME:EDT
DTSTART:20180311T070000
END:DAYLIGHT
BEGIN:STANDARD
TZOFFSETFROM:-0400
TZOFFSETTO:-0500
TZNAME:EST
DTSTART:20181104T060000
END:STANDARD
END:VTIMEZONE
BEGIN:VTIMEZONE
TZID:UTC
BEGIN:STANDARD
TZOFFSETFROM:+0000
TZOFFSETTO:+0000
TZNAME:UTC
DTSTART:20150101T000000
END:STANDARD
END:VTIMEZONE
BEGIN:VEVENT
DTSTART;TZID=America/New_York:20170817T180000
DTEND;TZID=America/New_York:20170817T220000
DTSTAMP:20260425T000157
CREATED:20170726T042832Z
LAST-MODIFIED:20170726T043838Z
UID:3839-1502992800-1503007200@annapolishomebrewclub.com
SUMMARY:August Monthly Meeting:  Sensory Training
DESCRIPTION:We will be doing sensory training at our August meeting.  The club has purchased a sensory kit to train your palate at identifying common off flavors in beer.  There is no fee but you must be up to date on your dues. \nLocation is TBD and will be announced as the date approaches. Watch the Facebook group page for any updates. \n 
URL:https://annapolishomebrewclub.com/event/august-monthly-meeting-sensory-training/
LOCATION:Members Only Information
CATEGORIES:Monthly Meetings
ATTACH;FMTTYPE=image/png:https://annapolishomebrewclub.com/wp-content/uploads/2017/07/1024px-Poison_Help.svg.png
END:VEVENT
BEGIN:VEVENT
DTSTART;TZID=UTC:20170805T140000
DTEND;TZID=UTC:20170805T190000
DTSTAMP:20260425T000157
CREATED:20170726T045422Z
LAST-MODIFIED:20170726T045422Z
UID:3849-1501941600-1501959600@annapolishomebrewclub.com
SUMMARY:Club Pig Roast
DESCRIPTION:Main details:\nWe will have delish pork!\nBring your brews (kegs\, bottles).\nBring a dessert if you last name begins with A-M.\nBring a side dish if your last name begins with N-Z.\n(family friendly as always)
URL:https://annapolishomebrewclub.com/event/club-pig-roast/
LOCATION:Members Only Information
CATEGORIES:Club Events
ATTACH;FMTTYPE=image/jpeg:https://annapolishomebrewclub.com/wp-content/uploads/2017/07/IMG_20170617_114501.jpg
END:VEVENT
BEGIN:VEVENT
DTSTART;TZID=UTC:20170512T173000
DTEND;TZID=UTC:20170512T210000
DTSTAMP:20260425T000157
CREATED:20170328T224630Z
LAST-MODIFIED:20170328T224630Z
UID:3833-1494610200-1494622800@annapolishomebrewclub.com
SUMMARY:3rd Annual Pints for Paws Homebrewing and Craft Beer Festival
DESCRIPTION:The Annapolis Homebrew Club is excited to announce that the much-beloved community event\, Pints for Paws Homebrewing and Craft Beer Festival\, will return for a third year on May 12\, 2017\, from 5:30 p.m. to 9 p.m.\, at Stage One at Park Place in Annapolis. \nAs in the previous two years\, all proceeds from this family-friendly event will be donated directly to the SPCA of Anne Arundel County. \n“The organization is a thread in the cultural fabric of this area. Growing up in Annapolis\, the SPCA sign on Bay Ridge Avenue is etched into my memory.  As I grew older\, I became aware or the tireless work they have done since the 1920s and I have been a supporter ever since\,” says AHBC President Jeff Clark. \nThe event will feature samples from Burley Oak Brewing Company\, Jailbreak Brewing Company and Calvert Brewing Company – all breweries where AHBC alums have “gone pro” – as well as access to exclusive brews from club members. \nThe SPCA of Anne Arundel County will also be on-site with dogs\, cats\, rabbits\, hamsters and other critters available for adoption. Attendees are invited to bring their friendly\, leashed\, well-behaved animals with them to the festival. \nThere are three available ticket tiers for those who wish to attend: VIP ($50)\, general admission ($30) and designated driver/nondrinking ($10). You can buy your tickets on Eventbrite – but hurry\, all tickets are limited! 
URL:https://annapolishomebrewclub.com/event/pints-for-paws-annapolis-2017/
LOCATION:Stage One at Park Place\, 5 Park Place\, Annapolis\, MD\, 21401\, United States
CATEGORIES:Club Events
ATTACH;FMTTYPE=image/png:https://annapolishomebrewclub.com/wp-content/uploads/2017/03/P4PMD-2017-Final.png
END:VEVENT
BEGIN:VEVENT
DTSTART;TZID=UTC:20161222T180000
DTEND;TZID=UTC:20161222T220000
DTSTAMP:20260425T000157
CREATED:20160315T062548Z
LAST-MODIFIED:20160316T193554Z
UID:3806-1482429600-1482444000@annapolishomebrewclub.com
SUMMARY:December Monthly Meeting: Winter Warmer Competition
DESCRIPTION:It’s too cold outside. Looks like its time for a Winter Warmer competition. Any and all winter warmer styles of beer will be accepted (i.e. probably something spiced). \nLocation is TBD and will be announced to members as the date approaches.
URL:https://annapolishomebrewclub.com/event/winter-warmer-competition/
LOCATION:Members Only Information
CATEGORIES:AHBC Competitions,Monthly Meetings
ATTACH;FMTTYPE=image/jpeg:https://annapolishomebrewclub.com/wp-content/uploads/2016/03/56322269.jpg
ORGANIZER;CN="Annapolis Homebrew Club & ABC Events Inc.":MAILTO:hello@annapolishomebrewclub.com
END:VEVENT
BEGIN:VEVENT
DTSTART;TZID=UTC:20161020T180000
DTEND;TZID=UTC:20161020T220000
DTSTAMP:20260425T000157
CREATED:20160315T060933Z
LAST-MODIFIED:20160316T193627Z
UID:3804-1476986400-1477000800@annapolishomebrewclub.com
SUMMARY:October Monthly Meeting: Iron Brewer Competition
DESCRIPTION:This competition will take place during our October monthly meeting. The coveted title of Iron Brewer will be given out to the winner of this competition. Three mystery ingredients were selected at random and are listed below. Competitors must use a noticeable amount of all three of these ingredients in their beer. Any style of beer is acceptable so long as it satisfies the mystery ingredients or requirements. \n\nMystery Ingredient 1: Marshmallow\nMystery Ingredient 2: Lactose\nMystery Ingredient 3: High Gravity\n\nFor Reference: Here is the list of potential ingredients / requirements that the mystery ingredients were randomly selected from… \nSriracha hot sauce\, marshmallows\, Grapefruit\, berries\, brett\, No Barley\, cucumbers\, low gravity\, high gravity\, oysters\, peanut butter\, coconut\, wine must\, ginger\, oranges\, coffee\, molasses\, sour cherries\, honey\, salt\, peppers\, assorted nuts\, lactose\, doughnuts.
URL:https://annapolishomebrewclub.com/event/iron-brewer-competition/
LOCATION:Members Only Information
CATEGORIES:AHBC Competitions,Monthly Meetings
ATTACH;FMTTYPE=image/jpeg:https://annapolishomebrewclub.com/wp-content/uploads/2016/03/Futurama_555966_5439996.jpg
ORGANIZER;CN="Annapolis Homebrew Club":MAILTO:hello@annapolishomebrewclub.com
END:VEVENT
BEGIN:VEVENT
DTSTART;TZID=UTC:20161001T080000
DTEND;TZID=UTC:20161001T160000
DTSTAMP:20260425T000157
CREATED:20160830T221715Z
LAST-MODIFIED:20160830T222014Z
UID:3821-1475308800-1475337600@annapolishomebrewclub.com
SUMMARY:AHBC Annual Brew-In
DESCRIPTION:It’s that time of year again – our annual brew-in! A club favorite is back\, and this time we’re taking our brew-in to the beach. Since this is a members event taking place in the community of a member\, please join our Facebook group page for address and other details.
URL:https://annapolishomebrewclub.com/event/ahbc-annual-brew-in/
LOCATION:Members Only Information
CATEGORIES:Club Events
ATTACH;FMTTYPE=image/jpeg:https://annapolishomebrewclub.com/wp-content/uploads/2016/08/516eff65827db351ab81e159af40bf7e98a0e7fec62c85d132536ef6e7dc1ebe.jpg
END:VEVENT
BEGIN:VEVENT
DTSTART;TZID=UTC:20160917T100000
DTEND;TZID=UTC:20160917T180000
DTSTAMP:20260425T000157
CREATED:20160830T220949Z
LAST-MODIFIED:20160830T220949Z
UID:3818-1474106400-1474135200@annapolishomebrewclub.com
SUMMARY:AHBC & HERE. a Pop-Up Shop Collaboration\, Benefiting the Anne Arundel SPCA
DESCRIPTION:We’re partnering with Amy and El of HERE. a Pop-Up Shop for their GIVE BACK DAY! We’ll be providing complimentary beer tastings\, with proceeds benefiting the Anne Arundel SPCA.
URL:https://annapolishomebrewclub.com/event/ahbc-here-a-pop-up-shop-collaboration-benefiting-the-anne-arundel-spca/
LOCATION:HERE. a Pop-Up Shop\, 222 Severn Avenue\, Annapolis\, 21403\, United States
CATEGORIES:AHBC Partnerships,Club Events
ATTACH;FMTTYPE=image/png:https://annapolishomebrewclub.com/wp-content/uploads/2016/08/Gyspy-Sail-Insta-Final.png
END:VEVENT
BEGIN:VEVENT
DTSTART;TZID=UTC:20160818T060000
DTEND;TZID=UTC:20160818T220000
DTSTAMP:20260425T000157
CREATED:20160315T054511Z
LAST-MODIFIED:20160316T193636Z
UID:3802-1471500000-1471557600@annapolishomebrewclub.com
SUMMARY:August Monthly Meeting: Pale Ale Competition
DESCRIPTION:This competition will take place during our August meeting. August’s competition is Pale Ales. This DOES NOT include IPAs of any kind (e.g. No IPA\, RIPA\, DIPA\, IIPA\, IBA\, etc). Don’t worry there will be separate event specifically for IPAs. Any kind of (regular) Pale Ale is acceptable. \nLocation is TBD and will be announced as the date approaches.
URL:https://annapolishomebrewclub.com/event/pale-ale-competition/
LOCATION:Members Only Information
CATEGORIES:AHBC Competitions,Monthly Meetings
ATTACH;FMTTYPE=image/jpeg:https://annapolishomebrewclub.com/wp-content/uploads/2016/03/maxresdefault.jpg
ORGANIZER;CN="Annapolis Homebrew Club":MAILTO:hello@annapolishomebrewclub.com
END:VEVENT
BEGIN:VEVENT
DTSTART;TZID=UTC:20160616T180000
DTEND;TZID=UTC:20160616T220000
DTSTAMP:20260425T000157
CREATED:20160315T053353Z
LAST-MODIFIED:20160316T193645Z
UID:3800-1466100000-1466114400@annapolishomebrewclub.com
SUMMARY:June Monthly Meeting: Fruit Beer Competition
DESCRIPTION:This month’s competition will be fruit beers and will take place during our June meeting. All styles will be accepted so long as the beer is made with some sort of fruit. \nLocation is TBD and will be announced as the date approaches. \n 
URL:https://annapolishomebrewclub.com/event/fruit-beer-competition/
LOCATION:Members Only Information
CATEGORIES:AHBC Competitions,Monthly Meetings
ATTACH;FMTTYPE=image/jpeg:https://annapolishomebrewclub.com/wp-content/uploads/2016/03/banana-funny-fruit-hd-wallpaper-768x480.jpg
ORGANIZER;CN="Annapolis Homebrew Club":MAILTO:hello@annapolishomebrewclub.com
END:VEVENT
BEGIN:VEVENT
DTSTART;TZID=UTC:20160421T180000
DTEND;TZID=UTC:20160421T220000
DTSTAMP:20260425T000157
CREATED:20160315T052507Z
LAST-MODIFIED:20160316T193656Z
UID:3798-1461261600-1461276000@annapolishomebrewclub.com
SUMMARY:April Monthly Meeting: Belgian Style Competition
DESCRIPTION:Our Belgian style competition is back for our April meeting! This was a huge competition last year. Actually it was too big\, so this year the accepted styles will be more selective. \nAccepted styles include: Dubbel\, Tripel\, Quadruple. \nLocation is TBD and will be announced as the date approaches. \n 
URL:https://annapolishomebrewclub.com/event/belgian-style-competition/
LOCATION:Members Only Information
CATEGORIES:AHBC Competitions,Monthly Meetings
ATTACH;FMTTYPE=image/jpeg:https://annapolishomebrewclub.com/wp-content/uploads/2016/03/belgian-independence-glass-flag1.jpg
ORGANIZER;CN="Annapolis Homebrew Club":MAILTO:hello@annapolishomebrewclub.com
END:VEVENT
BEGIN:VEVENT
DTSTART;TZID=UTC:20160408T173000
DTEND;TZID=UTC:20160408T210000
DTSTAMP:20260425T000157
CREATED:20160312T131645Z
LAST-MODIFIED:20160312T224047Z
UID:3745-1460136600-1460149200@annapolishomebrewclub.com
SUMMARY:2nd Annual Pints for Paws
DESCRIPTION:Pints for Paws Homebrewing and Craft Beer Festival\, benefiting the SPCA of Anne Arundel County is back for Annapolis Beer Week 2016 on April 8th\, from 5:30 p.m. to 9 p.m.! Leashed four-legged pals are encouraged to attend\, and we have an Under 21/Designated Driver ticket option available. Your ticket includes unlimited samples from Calvert Brewing Company\, Jailbreak Brewing Company and Backshore Brewing Company\, as well as access to unlimited beer samples from the Annapolis Homebrew Club! Food will also be available onsite to purchase. \nTickets will be $35 at the door.
URL:https://annapolishomebrewclub.com/event/2nd-annual-pints-for-paws/
LOCATION:Stage One at Park Place\, 5 Park Place\, Annapolis\, MD\, 21401\, United States
CATEGORIES:Club Events
ATTACH;FMTTYPE=image/png:https://annapolishomebrewclub.com/wp-content/uploads/2016/03/12804799_593439077469932_4496482771526342102_n.png
ORGANIZER;CN="Annapolis Homebrew Club & ABC Events Inc.":MAILTO:hello@annapolishomebrewclub.com
END:VEVENT
BEGIN:VEVENT
DTSTART;TZID=UTC:20160317T183000
DTEND;TZID=UTC:20160317T210000
DTSTAMP:20260425T000157
CREATED:20160312T130606Z
LAST-MODIFIED:20160312T130606Z
UID:3739-1458239400-1458248400@annapolishomebrewclub.com
SUMMARY:March Meeting with Speaker: Ben Little from Manor Hill Brewing
DESCRIPTION:This month\, Ben Little\, head brewer at Manor Hill Brewing in Howard County\, Maryland\, will be joining us. Location is made private for members only. Please join the Facebook Group for more information.
URL:https://annapolishomebrewclub.com/event/march-meeting-with-speaker-ben-little-from-manor-hill-brewing/
LOCATION:Members Only Information
CATEGORIES:Monthly Meetings
ATTACH;FMTTYPE=image/jpeg:https://annapolishomebrewclub.com/wp-content/uploads/2016/03/manor-hill-brewing.jpg
END:VEVENT
END:VCALENDAR