BEGIN:VCALENDAR
VERSION:2.0
PRODID:-//Annapolis Homebrew Club - ECPv6.15.20//NONSGML v1.0//EN
CALSCALE:GREGORIAN
METHOD:PUBLISH
X-WR-CALNAME:Annapolis Homebrew Club
X-ORIGINAL-URL:https://annapolishomebrewclub.com
X-WR-CALDESC:Events for Annapolis Homebrew Club
REFRESH-INTERVAL;VALUE=DURATION:PT1H
X-Robots-Tag:noindex
X-PUBLISHED-TTL:PT1H
BEGIN:VTIMEZONE
TZID:America/New_York
BEGIN:DAYLIGHT
TZOFFSETFROM:-0500
TZOFFSETTO:-0400
TZNAME:EDT
DTSTART:20180311T070000
END:DAYLIGHT
BEGIN:STANDARD
TZOFFSETFROM:-0400
TZOFFSETTO:-0500
TZNAME:EST
DTSTART:20181104T060000
END:STANDARD
BEGIN:DAYLIGHT
TZOFFSETFROM:-0500
TZOFFSETTO:-0400
TZNAME:EDT
DTSTART:20190310T070000
END:DAYLIGHT
BEGIN:STANDARD
TZOFFSETFROM:-0400
TZOFFSETTO:-0500
TZNAME:EST
DTSTART:20191103T060000
END:STANDARD
BEGIN:DAYLIGHT
TZOFFSETFROM:-0500
TZOFFSETTO:-0400
TZNAME:EDT
DTSTART:20200308T070000
END:DAYLIGHT
BEGIN:STANDARD
TZOFFSETFROM:-0400
TZOFFSETTO:-0500
TZNAME:EST
DTSTART:20201101T060000
END:STANDARD
END:VTIMEZONE
BEGIN:VTIMEZONE
TZID:UTC
BEGIN:STANDARD
TZOFFSETFROM:+0000
TZOFFSETTO:+0000
TZNAME:UTC
DTSTART:20170101T000000
END:STANDARD
END:VTIMEZONE
BEGIN:VTIMEZONE
TZID:America/New_York
BEGIN:DAYLIGHT
TZOFFSETFROM:-0500
TZOFFSETTO:-0400
TZNAME:EDT
DTSTART:20160313T070000
END:DAYLIGHT
BEGIN:STANDARD
TZOFFSETFROM:-0400
TZOFFSETTO:-0500
TZNAME:EST
DTSTART:20161106T060000
END:STANDARD
BEGIN:DAYLIGHT
TZOFFSETFROM:-0500
TZOFFSETTO:-0400
TZNAME:EDT
DTSTART:20170312T070000
END:DAYLIGHT
BEGIN:STANDARD
TZOFFSETFROM:-0400
TZOFFSETTO:-0500
TZNAME:EST
DTSTART:20171105T060000
END:STANDARD
BEGIN:DAYLIGHT
TZOFFSETFROM:-0500
TZOFFSETTO:-0400
TZNAME:EDT
DTSTART:20180311T070000
END:DAYLIGHT
BEGIN:STANDARD
TZOFFSETFROM:-0400
TZOFFSETTO:-0500
TZNAME:EST
DTSTART:20181104T060000
END:STANDARD
END:VTIMEZONE
BEGIN:VEVENT
DTSTART;TZID=America/New_York:20190615T140000
DTEND;TZID=America/New_York:20190615T180000
DTSTAMP:20260424T183303
CREATED:20190509T165400Z
LAST-MODIFIED:20190509T165400Z
UID:5861-1560607200-1560621600@annapolishomebrewclub.com
SUMMARY:5th Annual Pints for Paws Homebrewing and Craft Beer Festival
DESCRIPTION:It’s time for The Annapolis Homebrew Club’s 5th Annual Pints For Paws Homebrewing and Craft Beer Festival to benefit the SPCA of Anne Arundel County!\n\n\n\nYour ticket includes samples from more than 40 homebrews\, local craft breweries and a commemorative pint glass. There will be food trucks\, a band\, vendors\, silent auction and more. \nFeaturing beers from Local Craft Breweries including Crooked Crab\, Calvert Brewing Company\, Cult Classic\, Chesepiooc Real Ale Brewery and Mully’s and Exclusive VIP beers from Sapwood Cellars and others. \nUPDATE – VIP TICKETS HAVE SOLD OUT. A limited number of VIP ticket will be available for $55. With a VIP ticket\, you will receive early access to the event\, VIP port-o-johns and access to the VIP tent with snacks\, water and samples to exclusive beers including beer from Sapwood Cellars. \nThe SPCA of Anne Arundel County mobile unit will also be on hand to showcase adoptable animals. And yes\, leashed dogs are welcome! \nNEW FOR 2019 – The Children’s Theatre of Annapolis has generously donated their time to run a children’s area at Pints For Paws for our younger attendees. \nTHERE ARE A LIMITED NUMBER OF EARLY BIRD TICKETS FOR $30 THROUGH APRIL 15 OR UNTIL THEY SELL OUT. \nGeneral Admission tickets – $35\nDesignated Driver – $10\nVIP – $55 \nKids are free with a paying adult. \nThe Annapolis Homebrew Club donates all proceeds from the event to the SPCA of Anne Arundel County. If you’re interested in being a sponsor\, please email p4p@annapolishomebrewclub.com.
URL:https://annapolishomebrewclub.com/event/p4p_2019/
LOCATION:Navy-Marine Corps Memorial Stadium.\, 550 Taylor ave\, Annapolis\, MD\, 21401
CATEGORIES:Club Events
ORGANIZER;CN="Annapolis Homebrew Club":MAILTO:hello@annapolishomebrewclub.com
END:VEVENT
BEGIN:VEVENT
DTSTART;TZID=America/New_York:20190516T183000
DTEND;TZID=America/New_York:20190516T210000
DTSTAMP:20260424T183303
CREATED:20190509T165604Z
LAST-MODIFIED:20190509T165604Z
UID:5864-1558031400-1558040400@annapolishomebrewclub.com
SUMMARY:May 2019 Club Meeting
DESCRIPTION:We are back at the beach\, at least for May. No competition this month but come out share some beer and let’s talk about Pints For Paws.
URL:https://annapolishomebrewclub.com/event/may-2019-club-meeting/
LOCATION:“The beach”\, 108 Severn River Rd\, Severna Park\, 21146\, United States
CATEGORIES:Monthly Meetings
ORGANIZER;CN="Annapolis Homebrew Club":MAILTO:hello@annapolishomebrewclub.com
END:VEVENT
BEGIN:VEVENT
DTSTART;TZID=America/New_York:20190418T183000
DTEND;TZID=America/New_York:20190418T203000
DTSTAMP:20260424T183303
CREATED:20190319T191955Z
LAST-MODIFIED:20190319T191955Z
UID:5825-1555612200-1555619400@annapolishomebrewclub.com
SUMMARY:April 2019 Meeting and Competition
DESCRIPTION:
URL:https://annapolishomebrewclub.com/event/april-2019-meeting-and-competition/
LOCATION:Annapolis Home Brew\, 836 Ritchie Hwy Ste 19\,\, Severna Park\, 21146\, United States
CATEGORIES:AHBC Competitions,Monthly Meetings
ORGANIZER;CN="Annapolis Homebrew Club":MAILTO:hello@annapolishomebrewclub.com
END:VEVENT
BEGIN:VEVENT
DTSTART;TZID=America/New_York:20190322T183000
DTEND;TZID=America/New_York:20190322T203000
DTSTAMP:20260424T183303
CREATED:20190319T192307Z
LAST-MODIFIED:20190319T192307Z
UID:5831-1553279400-1553286600@annapolishomebrewclub.com
SUMMARY:March 2019 Club Meeting
DESCRIPTION:No competition this month but come out to Crooked Crab where the new head brewer\, Adam has graciously agreed to host.  We will be located in the back of the brewery\, where you can bring your homebrew to share. \n*** Reminder\, no homebrew in the taproom!
URL:https://annapolishomebrewclub.com/event/march-2019-club-meeting/
LOCATION:Crooked Crab Brewing Company\, 8251 telegraph rd\, Odenton\, MD\, 21113\, United States
CATEGORIES:Monthly Meetings
ORGANIZER;CN="Annapolis Homebrew Club":MAILTO:hello@annapolishomebrewclub.com
END:VEVENT
BEGIN:VEVENT
DTSTART;TZID=UTC:20190221T183000
DTEND;TZID=UTC:20190221T203000
DTSTAMP:20260424T183303
CREATED:20190103T053133Z
LAST-MODIFIED:20190115T200145Z
UID:3966-1550773800-1550781000@annapolishomebrewclub.com
SUMMARY:February 2019 Meeting and Competition
DESCRIPTION:This month’s competition is “Attack of the hops!“\, which will include any hop forward beers.  We are bringing this back for another year as this was one of our most popular competitions last year.  So\, bring your pale ales\, IPA’s (White\, Red\, Black\, Double\, Strong\, Hazy\, Milkshake\, Session\, insert buzz word here)\, hoppy lagers\, or whatever other hoppy style beer you’re willing to show off.
URL:https://annapolishomebrewclub.com/event/february-2019-meeting/
LOCATION:Annapolis Home Brew\, 836 Ritchie Hwy Ste 19\,\, Severna Park\, 21146\, United States
CATEGORIES:AHBC Competitions,Monthly Meetings
ORGANIZER;CN="Annapolis Homebrew Club":MAILTO:hello@annapolishomebrewclub.com
END:VEVENT
BEGIN:VEVENT
DTSTART;TZID=America/New_York:20190122T080000
DTEND;TZID=America/New_York:20190129T170000
DTSTAMP:20260424T183303
CREATED:20190116T042253Z
LAST-MODIFIED:20190116T042309Z
UID:4045-1548144000-1548781200@annapolishomebrewclub.com
SUMMARY:National Homebrew Competition Applications
DESCRIPTION:Applications for the National Homebrew Competition open on January 22 and run through January 29th.
URL:https://annapolishomebrewclub.com/event/nhbcapplication/
LOCATION:MD
CATEGORIES:External Competitions
END:VEVENT
BEGIN:VEVENT
DTSTART;TZID=UTC:20190117T183000
DTEND;TZID=UTC:20190117T203000
DTSTAMP:20260424T183303
CREATED:20190103T051742Z
LAST-MODIFIED:20190104T150826Z
UID:3919-1547749800-1547757000@annapolishomebrewclub.com
SUMMARY:January 2019 Meeting
DESCRIPTION:There is no competition this month\, but come out and join us for the first club meeting of 2019\, and start getting your beers ready for the February competition – “Attack of the hops!”
URL:https://annapolishomebrewclub.com/event/january-2019-meeting/
LOCATION:Flying Doghead Brewery\, 550 Charington Dr\, Severna Park\, MD\, United States
CATEGORIES:Monthly Meetings
ORGANIZER;CN="Annapolis Homebrew Club":MAILTO:hello@annapolishomebrewclub.com
END:VEVENT
BEGIN:VEVENT
DTSTART;TZID=UTC:20181220T183000
DTEND;TZID=UTC:20181220T203000
DTSTAMP:20260424T183303
CREATED:20180118T071806Z
LAST-MODIFIED:20180118T071806Z
UID:3887-1545330600-1545337800@annapolishomebrewclub.com
SUMMARY:December Meeting
DESCRIPTION:
URL:https://annapolishomebrewclub.com/event/december-meeting/
LOCATION:Crooked Crab Brewing Company\, 8251 telegraph rd\, Odenton\, MD\, 21113\, United States
CATEGORIES:Monthly Meetings
END:VEVENT
BEGIN:VEVENT
DTSTART;TZID=UTC:20181115T183000
DTEND;TZID=UTC:20181115T203000
DTSTAMP:20260424T183303
CREATED:20180118T071705Z
LAST-MODIFIED:20180118T071705Z
UID:3886-1542306600-1542313800@annapolishomebrewclub.com
SUMMARY:November Meeting
DESCRIPTION:
URL:https://annapolishomebrewclub.com/event/november-meeting/
LOCATION:Crooked Crab Brewing Company\, 8251 telegraph rd\, Odenton\, MD\, 21113\, United States
CATEGORIES:Monthly Meetings
END:VEVENT
BEGIN:VEVENT
DTSTART;TZID=UTC:20181018T183000
DTEND;TZID=UTC:20181018T203000
DTSTAMP:20260424T183303
CREATED:20180118T071602Z
LAST-MODIFIED:20190102T221649Z
UID:3885-1539887400-1539894600@annapolishomebrewclub.com
SUMMARY:October Meeting
DESCRIPTION:
URL:https://annapolishomebrewclub.com/event/october-meeting/
LOCATION:Crooked Crab Brewing Company\, 8251 telegraph rd\, Odenton\, MD\, 21113\, United States
CATEGORIES:Monthly Meetings
END:VEVENT
BEGIN:VEVENT
DTSTART;TZID=UTC:20180920T183000
DTEND;TZID=UTC:20180920T203000
DTSTAMP:20260424T183303
CREATED:20180118T071246Z
LAST-MODIFIED:20180118T071246Z
UID:3883-1537468200-1537475400@annapolishomebrewclub.com
SUMMARY:September Meeting
DESCRIPTION:
URL:https://annapolishomebrewclub.com/event/september-meeting/
LOCATION:“The beach”\, 108 Severn River Rd\, Severna Park\, 21146\, United States
CATEGORIES:Monthly Meetings
END:VEVENT
BEGIN:VEVENT
DTSTART;TZID=UTC:20180816T183000
DTEND;TZID=UTC:20180816T203000
DTSTAMP:20260424T183303
CREATED:20180118T065758Z
LAST-MODIFIED:20190103T051331Z
UID:3876-1534444200-1534451400@annapolishomebrewclub.com
SUMMARY:August Meeting
DESCRIPTION:
URL:https://annapolishomebrewclub.com/event/june-meeting/
LOCATION:“The beach”\, 108 Severn River Rd\, Severna Park\, 21146\, United States
CATEGORIES:Monthly Meetings
END:VEVENT
BEGIN:VEVENT
DTSTART;TZID=UTC:20180801T170000
DTEND;TZID=UTC:20180801T170000
DTSTAMP:20260424T183303
CREATED:20180118T071437Z
LAST-MODIFIED:20180118T071437Z
UID:3884-1533142800-1533142800@annapolishomebrewclub.com
SUMMARY:Pig Roast
DESCRIPTION:DATE  “”””TBD”””
URL:https://annapolishomebrewclub.com/event/pig-roast/
LOCATION:“The beach”\, 108 Severn River Rd\, Severna Park\, 21146\, United States
CATEGORIES:Club Events
END:VEVENT
BEGIN:VEVENT
DTSTART;TZID=UTC:20180719T183000
DTEND;TZID=UTC:20180719T203000
DTSTAMP:20260424T183303
CREATED:20180118T070403Z
LAST-MODIFIED:20180118T070403Z
UID:3880-1532025000-1532032200@annapolishomebrewclub.com
SUMMARY:July Meeting
DESCRIPTION:
URL:https://annapolishomebrewclub.com/event/july-meeting/
LOCATION:“The beach”\, 108 Severn River Rd\, Severna Park\, 21146\, United States
CATEGORIES:Monthly Meetings
END:VEVENT
BEGIN:VEVENT
DTSTART;TZID=UTC:20180628T080000
DTEND;TZID=UTC:20180628T080000
DTSTAMP:20260424T183303
CREATED:20180118T070107Z
LAST-MODIFIED:20190103T051229Z
UID:3877-1530172800-1530172800@annapolishomebrewclub.com
SUMMARY:Homebrew Con
DESCRIPTION:
URL:https://annapolishomebrewclub.com/event/homebrew-con/
LOCATION:Portland\, United States
CATEGORIES:External Events
END:VEVENT
BEGIN:VEVENT
DTSTART;TZID=UTC:20180623T140000
DTEND;TZID=UTC:20180623T180000
DTSTAMP:20260424T183303
CREATED:20180125T064102Z
LAST-MODIFIED:20180201T223538Z
UID:3896-1529762400-1529776800@annapolishomebrewclub.com
SUMMARY:P4P (pints for paws)
DESCRIPTION:The Annapolis Homebrew Club is excited to announce that the much-beloved community event\, Pints for Paws Homebrewing and Craft Beer Festival\, will return for the fourth year on June 23th\, 2018 from 2 p.m. to 6 p.m.\, at Navy-Marine Corps Memorial Stadium. \nAs in the previous three years\, all proceeds from this family-friendly event will be donated directly to the SPCA of Anne Arundel County. \n“The organization is a thread in the cultural fabric of this area. Growing up in Annapolis\, the SPCA sign on Bay Ridge Avenue is etched into my memory. As I grew older\, I became aware or the tireless work they have done since the 1920s and I have been a supporter ever since\,” says AHBC President Jeff Clark. \nThe event will feature samples from breweries where AHBC alums have “gone pro” – as well as access to exclusive brews from club members. \nThe SPCA of Anne Arundel County will also be on-site with dogs\, cats\, rabbits\, hamsters and other critters available for adoption. Attendees are invited to bring their friendly\, leashed\, well-behaved animals with them to the festival. \nPrice TBD
URL:https://annapolishomebrewclub.com/event/p4p-pints-paws/
LOCATION:Navy-Marine Corps Memorial Stadium.\, 550 Taylor ave\, Annapolis\, MD\, 21401
CATEGORIES:Club Events
ORGANIZER;CN="Annapolis Homebrew Club":MAILTO:hello@annapolishomebrewclub.com
END:VEVENT
BEGIN:VEVENT
DTSTART;TZID=UTC:20180621T063000
DTEND;TZID=UTC:20180621T200000
DTSTAMP:20260424T183303
CREATED:20180118T070242Z
LAST-MODIFIED:20180118T070242Z
UID:3879-1529562600-1529611200@annapolishomebrewclub.com
SUMMARY:June Meeting
DESCRIPTION:
URL:https://annapolishomebrewclub.com/event/june-meeting-2/
LOCATION:“The beach”\, 108 Severn River Rd\, Severna Park\, 21146\, United States
CATEGORIES:Monthly Meetings
END:VEVENT
BEGIN:VEVENT
DTSTART;TZID=UTC:20180517T183000
DTEND;TZID=UTC:20180517T203000
DTSTAMP:20260424T183303
CREATED:20180118T065400Z
LAST-MODIFIED:20180118T065400Z
UID:3874-1526581800-1526589000@annapolishomebrewclub.com
SUMMARY:May Meeting
DESCRIPTION:
URL:https://annapolishomebrewclub.com/event/may-meeting/
LOCATION:“The beach”\, 108 Severn River Rd\, Severna Park\, 21146\, United States
CATEGORIES:Monthly Meetings
END:VEVENT
BEGIN:VEVENT
DTSTART;TZID=UTC:20180419T183000
DTEND;TZID=UTC:20180419T203000
DTSTAMP:20260424T183303
CREATED:20180118T064805Z
LAST-MODIFIED:20190103T051026Z
UID:3873-1524162600-1524169800@annapolishomebrewclub.com
SUMMARY:April Meeting
DESCRIPTION:
URL:https://annapolishomebrewclub.com/event/april-meeting/
LOCATION:Crooked Crab Brewing Company\, 8251 telegraph rd\, Odenton\, MD\, 21113\, United States
CATEGORIES:Monthly Meetings
END:VEVENT
BEGIN:VEVENT
DTSTART;TZID=UTC:20180315T183000
DTEND;TZID=UTC:20180315T203000
DTSTAMP:20260424T183303
CREATED:20180118T064627Z
LAST-MODIFIED:20180314T073927Z
UID:3871-1521138600-1521145800@annapolishomebrewclub.com
SUMMARY:March Meeting
DESCRIPTION:We want to thank Crooked Crab Brewing Company\, for letting us have our March meeting at their brand new brewery! also remember\,  We are going to work on an AHBC Crooked Crab collaboration beer. This one will be out on their taproom and proceeds would benefit SPCA! \nHomebrews are welcome\, but we can only have them in the brewery area. Let’s make this meeting the biggest of the year!
URL:https://annapolishomebrewclub.com/event/march-meeting/
LOCATION:Crooked Crab Brewing Company\, 8251 telegraph rd\, Odenton\, MD\, 21113\, United States
CATEGORIES:Monthly Meetings
END:VEVENT
BEGIN:VEVENT
DTSTART;TZID=UTC:20180224T113000
DTEND;TZID=UTC:20180224T183000
DTSTAMP:20260424T183303
CREATED:20180125T065012Z
LAST-MODIFIED:20180125T065012Z
UID:3898-1519471800-1519497000@annapolishomebrewclub.com
SUMMARY:2018 Baltimore brewery tour
DESCRIPTION:Breweries:\nWe will be trying to visit 4 breweries Union\, Monument\, Diamondback and Heavy Seas [time permitting] \nCost: $45 per person [limit to the first paid 14 members]\nThe cost is to offset the transportation service we will paying to take us around.\nPayments can be made Via paypal: https://www.paypal.me/AHBC2016 (Put brewtour in the notes section). \n* You must be a dues paying member as well. \nWe will be meeting at Annapolis mall at 11:30 and heading out from there. \nNote:The van only has 14 spaces\, so get on it. If we have overwhelming demand we might be able to get a second vehicle if we can fill both vans up.
URL:https://annapolishomebrewclub.com/event/2018-baltimore-brewery-tour/
LOCATION:MD
CATEGORIES:Club Events
END:VEVENT
BEGIN:VEVENT
DTSTART;TZID=UTC:20180216T110000
DTEND;TZID=UTC:20180219T233000
DTSTAMP:20260424T183303
CREATED:20180125T063304Z
LAST-MODIFIED:20180125T063304Z
UID:3892-1518778800-1519083000@annapolishomebrewclub.com
SUMMARY:Max's Belgian beer fest 2018
DESCRIPTION:Over 200 drafts and over 250 bottles\nFeaturing a full Belgian inspired menu \nSpecial Daily Events:\nFriday-Lambic’s & RAR (info TBA)\nSaturday- Oxbow/Stillwater (info TBA)\nSunday- Allagash/Perennial (info TBA) \nSpecial Pop Up Bar\nFeaturing- Blackberry Farm
URL:https://annapolishomebrewclub.com/event/maxs-belgian-beer-fest-2018/
LOCATION:Max’s Tap house\, 737 S Broadway\, Baltimore\, MD\, 21231
CATEGORIES:Club Events
END:VEVENT
BEGIN:VEVENT
DTSTART;TZID=UTC:20180215T183000
DTEND;TZID=UTC:20180215T203000
DTSTAMP:20260424T183303
CREATED:20180118T063759Z
LAST-MODIFIED:20180118T063759Z
UID:3869-1518719400-1518726600@annapolishomebrewclub.com
SUMMARY:February Meeting  & Hoppy Beer comp
DESCRIPTION:
URL:https://annapolishomebrewclub.com/event/february-meeting-hoppy-beer-comp/
LOCATION:Annapolis Home Brew\, 836 Ritchie Hwy Ste 19\,\, Severna Park\, 21146\, United States
CATEGORIES:Monthly Meetings
END:VEVENT
BEGIN:VEVENT
DTSTART;TZID=UTC:20180123T080000
DTEND;TZID=UTC:20180123T170000
DTSTAMP:20260424T183303
CREATED:20180118T062437Z
LAST-MODIFIED:20190103T051426Z
UID:3868-1516694400-1516726800@annapolishomebrewclub.com
SUMMARY:National Homebrew Competition
DESCRIPTION:Application window opens Jan 23
URL:https://annapolishomebrewclub.com/event/national-homebrew-competition/
LOCATION:MD
CATEGORIES:External Competitions
END:VEVENT
BEGIN:VEVENT
DTSTART;TZID=UTC:20180120T120000
DTEND;TZID=UTC:20180120T160000
DTSTAMP:20260424T183303
CREATED:20180118T055022Z
LAST-MODIFIED:20180118T055859Z
UID:3864-1516449600-1516464000@annapolishomebrewclub.com
SUMMARY:20th Anniversary Celebration of the Free State Homebrew Club Guild
DESCRIPTION:
URL:https://annapolishomebrewclub.com/event/20th-anniversary-celebration-of-the-free-state-homebrew-club-guild/
LOCATION:DuClaw Brewing Company\, 8901 Yellow Brick Road Suite B\, Baltimore\, 21237\, United States
CATEGORIES:Club Events
END:VEVENT
BEGIN:VEVENT
DTSTART;TZID=UTC:20180119T183000
DTEND;TZID=UTC:20180119T203000
DTSTAMP:20260424T183303
CREATED:20180118T044049Z
LAST-MODIFIED:20180118T044049Z
UID:3861-1516386600-1516393800@annapolishomebrewclub.com
SUMMARY:January Meeting
DESCRIPTION:
URL:https://annapolishomebrewclub.com/event/january-meeting/
LOCATION:Unnamed Venue\, 3103 Havenhill Ct\, Edgewater\,  21037-3105
CATEGORIES:Monthly Meetings
ORGANIZER;CN="Annapolis Homebrew Club":MAILTO:hello@annapolishomebrewclub.com
END:VEVENT
BEGIN:VEVENT
DTSTART;TZID=America/New_York:20171116T180000
DTEND;TZID=America/New_York:20171116T220000
DTSTAMP:20260424T183303
CREATED:20170726T044518Z
LAST-MODIFIED:20170730T054648Z
UID:3845-1510855200-1510869600@annapolishomebrewclub.com
SUMMARY:November Monthly Meeting:  Barleywine competition
DESCRIPTION:November’s competition category is Barleywine!  It’s finally time to break out that big bad barleywine you have been cellaring for all this time. \nLocation is TBD and will be announced as the date approaches. Watch the Facebook group page for any updates. \n 
URL:https://annapolishomebrewclub.com/event/november-monthly-meeting-barleywine-competition/
LOCATION:Members Only Information
CATEGORIES:AHBC Competitions,Monthly Meetings
ATTACH;FMTTYPE=image/jpeg:https://annapolishomebrewclub.com/wp-content/uploads/2017/07/featured-8-625x352.jpg
END:VEVENT
BEGIN:VEVENT
DTSTART;TZID=America/New_York:20171021T120000
DTEND;TZID=America/New_York:20171021T170000
DTSTAMP:20260424T183303
CREATED:20170726T045924Z
LAST-MODIFIED:20170726T045924Z
UID:3853-1508587200-1508605200@annapolishomebrewclub.com
SUMMARY:Barktoberfest (Partnering with Dogwood Acres)
DESCRIPTION:We are partnering by Dogwood acres for their pet friendly Oktoberfest event\, Saturday October 21st\, a daytime event (times to be decided soon). They have been a silent auction donor for our P4P event since inception. This event will take place at the Stage One\, Park Place (just like P4P)\, about 100 people. We are serving and brewing beers and ciders. They will compensate for all brewing ingredient expenses\, and “run” and “market” the event (and provide glasses for tasting etc). Dogwood Acres will spend all ticket moneys on the event\, and likely some out of pocket from their organization (its a fun community outreach event\, its not a for profit event). We will have a signup sheet on this page shortly-let us know if you are interested in brewing and/or serving. \nSummary of our side of the bargain: we will need about 10 kegs\, and some servers with jockey boxes\, you know the drill.
URL:https://annapolishomebrewclub.com/event/barktoberfest-partnering-with-dogwood-acres/
LOCATION:Unnamed Venue\, Annapolis\, MD\, United States
CATEGORIES:Club Events
ATTACH;FMTTYPE=image/jpeg:https://annapolishomebrewclub.com/wp-content/uploads/2017/07/19895075_10155418073305645_6136138929212446755_n.jpg
END:VEVENT
BEGIN:VEVENT
DTSTART;TZID=America/New_York:20171019T180000
DTEND;TZID=America/New_York:20171019T220000
DTSTAMP:20260424T183303
CREATED:20170726T043751Z
LAST-MODIFIED:20170726T043751Z
UID:3844-1508436000-1508450400@annapolishomebrewclub.com
SUMMARY:October Monthly Meeting
DESCRIPTION:Location is TBD and will be announced as the date approaches. Watch the Facebook group page for any updates.
URL:https://annapolishomebrewclub.com/event/october-monthly-meeting/
LOCATION:Members Only Information
CATEGORIES:Monthly Meetings
END:VEVENT
BEGIN:VEVENT
DTSTART;TZID=America/New_York:20170921T180000
DTEND;TZID=America/New_York:20170921T220000
DTSTAMP:20260424T183303
CREATED:20170726T042644Z
LAST-MODIFIED:20170726T043244Z
UID:3838-1506016800-1506031200@annapolishomebrewclub.com
SUMMARY:September Monthly Meeting:  Belgian Competition
DESCRIPTION:Our Belgian style competition will be held at our September meeting.   This is usually one of our largest competitions\, so bring your A game.   Accepted styles include Dubbel\, Tripel\, Quadruple. \nLocation is TBD and will be announced as the date approaches. Watch the Facebook group page for any updates.
URL:https://annapolishomebrewclub.com/event/september-monthly-meeting-belgian-compition/
LOCATION:Members Only Information
CATEGORIES:AHBC Competitions,Monthly Meetings
ATTACH;FMTTYPE=image/jpeg:https://annapolishomebrewclub.com/wp-content/uploads/2017/07/1024px-Manneken_Pis_Brussel.jpg
END:VEVENT
END:VCALENDAR